BEGIN:VCALENDAR
PRODID:-//Microsoft Corporation//Outlook MIMEDIR//EN
VERSION:2.0
METHOD:PUBLISH
BEGIN:VEVENT
DTSTART:20260421T160000
DTEND:20260421T170000
DESCRIPTION:This meeting has been canceled.
LOCATION:Council Chambers, City Hall
SUMMARY:Board of Building Appeals
CATEGORIES:MEETING
END:VEVENT
END:VCALENDAR
